Workbook

Sheet 入力用フォーマット (入力例)
D1: =IF(COUNTIF(G3:G125,"未入力")>=1,"未入力箇所があります。","必須項目の入力を確認しました。記載内容に誤りがないか確認の上、データを人事課採用担当へ提出してください。") -> 未入力箇所があります。 | E1: ※網掛けセルは必須入力です。
A2: 項目 | D2: 入力セル | E2: 備考 | G2: 必須項目確認
A3: 作成日 | D3: 46113 | G3: =IF(D3="","未入力","入力済") -> 入力済
A4: 氏名（姓） | D4: 山陰 | G4: =IF(D4="","未入力","入力済") -> 入力済
A5: 氏名（名） | D5: 太郎 | G5: =IF(D5="","未入力","入力済") -> 入力済
A6: フリガナ（セイ） | D6: サンイン | E6: 全角カナで入力してください。 | G6: =IF(D6="","未入力","入力済") -> 入力済
A7: フリガナ（メイ） | D7: タロウ | E7: 全角カナで入力してください。 | G7: =IF(D7="","未入力","入力済") -> 入力済
A8: 生年月日 | D8: 32964 | G8: =IF(D8="","未入力","入力済") -> 入力済
A9: 現住所欄 | C9: 住所 〒 | D9: 683-0002 | E9: 郵便番号（半角、ハイフン含む）を入力してください。 | G9: =IF(D9="","未入力","入力済") -> 入力済
C10: 都道府県名 | D10: 鳥取県 | E10: 都道府県名を入力してください。 | G10: =IF(D10="","未入力","入力済") -> 入力済
C11: 市区町村以降 | D11: 米子市皆生新田１丁目８番１号 | E11: 市区町村以降の住所を入力してください。 | G11: =IF(D11="","未入力","入力済") -> 入力済
C12: TEL | D12: 0859-33-8181 | E12: 連絡の取りやすい番号を入力してください。 （半角、ハイフン含む） | G12: =IF(D12="","未入力","入力済") -> 入力済
C13: 携帯番号 | D13: 090-1111-1111 | G13: =IF(D13="","未入力","入力済") -> 入力済
C14: E-mail | D14: saninh@m.johas.go.jp | G14: =IF(D14="","未入力","入力済") -> 入力済
A15: 帰省先等 | C15: 住所 〒 | E15: 現住所と帰省先が異なる場合に入力してください。 現住所と帰省先が同じ場合は、16行目の都道府県名欄に「同上」と入力してください。
C16: 都道府県名 | G16: =IF(D16="","未入力","入力済") -> 未入力
C17: 市区町村以降
C18: TEL
C19: 携帯番号
A20: 学歴（旧↓新の順に入力してください） | B20: ①高等学校 | C20: 入学年月（年） | D20: 2020 | E20: 高等学校の情報を入力してください。 | G20: =IF(D20="","未入力","入力済") -> 入力済
C21: 入学年月（月） | D21: 4 | G21: =IF(D21="","未入力","入力済") -> 入力済
C22: 卒業年月（年） | D22: 2023 | G22: =IF(D22="","未入力","入力済") -> 入力済
C23: 卒業年月（月） | D23: 3 | G23: =IF(D23="","未入力","入力済") -> 入力済
C24: 学校名 | D24: ○○○○高等学校 | G24: =IF(D24="","未入力","入力済") -> 入力済
C25: 学部･学科等 | D25: 普通科 | G25: =IF(D25="","未入力","入力済") -> 入力済
C26: 卒業等区分 | D26: 卒業 | E26: 該当するものを選択してください。 | G26: =IF(D26="","未入力","入力済") -> 入力済
B27: ②大学等 | C27: 入学年月（年） | D27: 2023 | E27: 大学の情報を入力してください。 | G27: =IF(D27="","未入力","入力済") -> 入力済
C28: 入学年月（月） | D28: 4 | G28: =IF(D28="","未入力","入力済") -> 入力済
C29: 卒業年月（年） | D29: 2027 | G29: =IF(D29="","未入力","入力済") -> 入力済
C30: 卒業年月（月） | D30: 3 | G30: =IF(D30="","未入力","入力済") -> 入力済
C31: 学校名 | D31: ○○○○大学 | G31: =IF(D31="","未入力","入力済") -> 入力済
C32: 学部･学科等 | D32: ○○○○学部 ○○○○○○○○○○学科 | E32: 学部・学科名が長い場合は学部と学科の間で改行してください。 | G32: =IF(D32="","未入力","入力済") -> 入力済
C33: 卒業等区分 | E33: 該当するものを選択してください。 | G33: =IF(D32="","未入力","入力済") -> 入力済
B34: ③大学等 | C34: 入学年月（年） | E34: 上記以外の情報がある場合は入力してください。
C35: 入学年月（月）
C36: 卒業年月（年）
C37: 卒業年月（月）
C38: 学校名
C39: 学部･学科等
C40: 卒業等区分
...

Sheet 入力用フォーマット
D1: =IF(COUNTIF(G3:G125,"未入力")>=1,"未入力箇所があります。","必須項目の入力を確認しました。記載内容に誤りがないか確認の上、データを人事課採用担当へ提出してください。") -> 未入力箇所があります。 | E1: ※網掛けセルは必須入力です。
A2: 項目 | D2: 入力セル | E2: 備考 | G2: 必須項目確認
A3: 作成日 | G3: =IF(D3="","未入力","入力済") -> 未入力
A4: 氏名（姓） | G4: =IF(D4="","未入力","入力済") -> 未入力
A5: 氏名（名） | G5: =IF(D5="","未入力","入力済") -> 未入力
A6: フリガナ（セイ） | E6: 全角カナで入力してください。 | G6: =IF(D6="","未入力","入力済") -> 未入力
A7: フリガナ（メイ） | E7: 全角カナで入力してください。 | G7: =IF(D7="","未入力","入力済") -> 未入力
A8: 生年月日 | G8: =IF(D8="","未入力","入力済") -> 未入力
A9: 現住所欄 | C9: 住所 〒 | E9: 郵便番号（半角、ハイフン含む）を入力してください。 | G9: =IF(D9="","未入力","入力済") -> 未入力
C10: 都道府県名 | E10: 都道府県名を入力してください。 | G10: =IF(D10="","未入力","入力済") -> 未入力
C11: 市区町村以降 | E11: 市区町村以降の住所を入力してください。 | G11: =IF(D11="","未入力","入力済") -> 未入力
C12: TEL | E12: 連絡の取りやすい番号を入力してください。 （半角、ハイフン含む） | G12: =IF(D12="","未入力","入力済") -> 未入力
C13: 携帯番号 | G13: =IF(D13="","未入力","入力済") -> 未入力
C14: E-mail | G14: =IF(D14="","未入力","入力済") -> 未入力
A15: 帰省先等 | C15: 住所 〒 | E15: 現住所と帰省先が異なる場合に入力してください。 現住所と帰省先が同じ場合は、16行目の都道府県名欄に「同上」と入力してください。
C16: 都道府県名 | G16: =IF(D16="","未入力","入力済") -> 未入力
C17: 市区町村以降
C18: TEL
C19: 携帯番号
A20: 学歴（旧↓新の順に入力してください） | B20: ①高等学校 | C20: 入学年月（年） | E20: 高等学校の情報を入力してください。 | G20: =IF(D20="","未入力","入力済") -> 未入力
C21: 入学年月（月） | G21: =IF(D21="","未入力","入力済") -> 未入力
C22: 卒業年月（年） | G22: =IF(D22="","未入力","入力済") -> 未入力
C23: 卒業年月（月） | G23: =IF(D23="","未入力","入力済") -> 未入力
C24: 学校名 | G24: =IF(D24="","未入力","入力済") -> 未入力
C25: 学部･学科等 | G25: =IF(D25="","未入力","入力済") -> 未入力
C26: 卒業等区分 | E26: 該当するものを選択してください。 | G26: =IF(D26="","未入力","入力済") -> 未入力
B27: ②大学等 | C27: 入学年月（年） | E27: 大学の情報を入力してください。 | G27: =IF(D27="","未入力","入力済") -> 未入力
C28: 入学年月（月） | G28: =IF(D28="","未入力","入力済") -> 未入力
C29: 卒業年月（年） | G29: =IF(D29="","未入力","入力済") -> 未入力
C30: 卒業年月（月） | G30: =IF(D30="","未入力","入力済") -> 未入力
C31: 学校名 | G31: =IF(D31="","未入力","入力済") -> 未入力
C32: 学部･学科等 | E32: 学部・学科名が長い場合は学部と学科の間で改行してください。 | G32: =IF(D32="","未入力","入力済") -> 未入力
C33: 卒業等区分 | E33: 該当するものを選択してください。 | G33: =IF(D32="","未入力","入力済") -> 未入力
B34: ③大学等 | C34: 入学年月（年） | E34: 上記以外の情報がある場合は入力してください。
C35: 入学年月（月）
C36: 卒業年月（年）
C37: 卒業年月（月）
C38: 学校名
C39: 学部･学科等
C40: 卒業等区分
...

Sheet 履歴書 
A2: 履 歴 書 | Z2: 撮影後３カ月以内の ものを使用すること
O3: =入力用フォーマット!D3 -> 0
A4: 氏 名 | O4: 生年月日 | Z4: 写真
A5: (フリガナ) | D5: =入力用フォーマット!D6&" "&入力用フォーマット!D7 | O5: =入力用フォーマット!D8 -> 0
A6: =入力用フォーマット!D4&" "&入力用フォーマット!D5 | Z6: ・ 本人単身胸像 ・ この枠と同じ大きさになるように加工してください。
O7: 年齢（応募時点）
Q8: =DATEDIF(O5,O3,"Y") -> 0
A10: 現住所
A11: 〒 | B11: （ | C11: =入力用フォーマット!D9&"" | G11: )
B13: ＴＥＬ | D13: =入力用フォーマット!D12&"" | O13: 携帯番号 | S13: =入力用フォーマット!D13&""
B14: E-mail | E14: =入力用フォーマット!D14&""
A16: 帰省先等
A17: 〒 | B17: （ | C17: =入力用フォーマット!D15&"" | G17: )
B18: =入力用フォーマット!D16&入力用フォーマット!D17
B19: ＴＥＬ | D19: =入力用フォーマット!D18&"" | O19: 携帯番号 | S19: =入力用フォーマット!D19&""
A21: 学歴旧⇩新 | B21: 在学期間 | H21: 学校名 | P21: 学部・学科など | AB21: 卒業等区分
B22: =IF(入力用フォーマット!D20="","",入力用フォーマット!D20&"年"&入力用フォーマット!D21&"月") | F22: から | H22: =入力用フォーマット!D24&"" | P22: =入力用フォーマット!D25&"" | AB22: =入力用フォーマット!D26&""
B23: =IF(入力用フォーマット!D22="","",入力用フォーマット!D22&"年"&入力用フォーマット!D23&"月") | F23: まで
B24: =IF(入力用フォーマット!D27="","",入力用フォーマット!D27&"年"&入力用フォーマット!D28&"月") | F24: から | H24: =入力用フォーマット!D31&"" | P24: =入力用フォーマット!D32&"" | AB24: =入力用フォーマット!D33&""
B25: =IF(入力用フォーマット!D29="","",入力用フォーマット!D29&"年"&入力用フォーマット!D30&"月") | F25: まで
B26: =IF(入力用フォーマット!D34="","",入力用フォーマット!D34&"年"&入力用フォーマット!D35&"月") | F26: から | H26: =入力用フォーマット!D38&"" | P26: =入力用フォーマット!D39&"" | AB26: =入力用フォーマット!D40&""
B27: =IF(入力用フォーマット!D36="","",入力用フォーマット!D36&"年"&入力用フォーマット!D37&"月") | F27: まで
B28: =IF(入力用フォーマット!D41="","",入力用フォーマット!D41&"年"&入力用フォーマット!D42&"月") | F28: から | H28: =入力用フォーマット!D45&"" | P28: =入力用フォーマット!D46&"" | AB28: =入力用フォーマット!D47&""
B29: =IF(入力用フォーマット!D43="","",入力用フォーマット!D43&"年"&入力用フォーマット!D44&"月") | F29: まで
A30: 職歴 旧⇩新 | B30: 在職期間 | H30: 勤務先 | P30: 職務内容（簡潔に） | AB30: 雇用形態
B31: =IF(入力用フォーマット!D48="","",入力用フォーマット!D48&"年"&入力用フォーマット!D49&"月") | F31: から | H31: =入力用フォーマット!D52&"" | P31: =入力用フォーマット!D53&"" | AB31: =入力用フォーマット!D54&""
B32: =IF(入力用フォーマット!D50="","",入力用フォーマット!D50&"年"&入力用フォーマット!D51&"月") | F32: まで
B33: =IF(入力用フォーマット!D55="","",入力用フォーマット!D55&"年"&入力用フォーマット!D56&"月") | F33: から | H33: =入力用フォーマット!D59&"" | P33: =入力用フォーマット!D60&"" | AB33: =入力用フォーマット!D61&""
B34: =IF(入力用フォーマット!D57="","",入力用フォーマット!D57&"年"&入力用フォーマット!D58&"月") | F34: まで
B35: =IF(入力用フォーマット!D62="","",入力用フォーマット!D62&"年"&入力用フォーマット!D63&"月") | F35: から | H35: =入力用フォーマット!D66&"" | P35: =入力用フォーマット!D67&"" | AB35: =入力用フォーマット!D68&""
B36: =IF(入力用フォーマット!D64="","",入力用フォーマット!D64&"年"&入力用フォーマット!D65&"月") | F36: まで
B37: =IF(入力用フォーマット!D69="","",入力用フォーマット!D69&"年"&入力用フォーマット!D70&"月") | F37: から | H37: =入力用フォーマット!D73&"" | P37: =入力用フォーマット!D74&"" | AB37: =入力用フォーマット!D75&""
B38: =IF(入力用フォーマット!D71="","",入力用フォーマット!D71&"年"&入力用フォーマット!D72&"月") | F38: まで
B39: =IF(入力用フォーマット!D76="","",入力用フォーマット!D76&"年"&入力用フォーマット!D77&"月") | F39: から | H39: =入力用フォーマット!D80&"" | P39: =入力用フォーマット!D81&"" | AB39: =入力用フォーマット!D82&""
B40: =IF(入力用フォーマット!D78="","",入力用フォーマット!D78&"年"&入力用フォーマット!D79&"月") | F40: まで
A41: 資格 免許 等 | B41: 取得年月 | G41: 名 称 | Q41: 取得年月 | V41: 名 称
B42: =IF(入力用フォーマット!D84="","",入力用フォーマット!D84&"年"&入力用フォーマット!D85&"月")&IF(入力用フォーマット!D86="取得見込","取得見込","") | G42: =入力用フォーマット!D83&"" | Q42: =IF(入力用フォーマット!D100="","",入力用フォーマット!D100&"年"&入力用フォーマット!D101&"月")&IF(入力用フォーマット!D102="取得見込","取得見込","") | V42: =入力用フォーマット!D99&""
B43: =IF(入力用フォーマット!D88="","",入力用フォーマット!D88&"年"&入力用フォーマット!D89&"月")&IF(入力用フォーマット!D90="取得見込","取得見込","") | G43: =入力用フォーマット!D87&"" | Q43: =IF(入力用フォーマット!D104="","",入力用フォーマット!D104&"年"&入力用フォーマット!D105&"月")&IF(入力用フォーマット!D106="取得見込","取得見込","") | V43: =入力用フォーマット!D103&""
B44: =IF(入力用フォーマット!D92="","",入力用フォーマット!D92&"年"&入力用フォーマット!D93&"月")&IF(入力用フォーマット!D94="取得見込","取得見込","") | G44: =入力用フォーマット!D91&"" | Q44: =IF(入力用フォーマット!D108="","",入力用フォーマット!D108&"年"&入力用フォーマット!D109&"月")&IF(入力用フォーマット!D110="取得見込","取得見込","") | V44: =入力用フォーマット!D107&""
B45: =IF(入力用フォーマット!D96="","",入力用フォーマット!D96&"年"&入力用フォーマット!D97&"月")&IF(入力用フォーマット!D98="取得見込","取得見込","") | G45: =入力用フォーマット!D95&"" | Q45: =IF(入力用フォーマット!D112="","",入力用フォーマット!D112&"年"&入力用フォーマット!D113&"月")&IF(入力用フォーマット!D114="取得見込","取得見込","") | V45: =入力用フォーマット!D111&""
...
